BEGIN:VCALENDAR
VERSION:2.0
PRODID:-//Chesapeake Bay Governor&#039;s School - ECPv6.15.20//NONSGML v1.0//EN
CALSCALE:GREGORIAN
METHOD:PUBLISH
X-ORIGINAL-URL:https://cbgs.k12.va.us
X-WR-CALDESC:Events for Chesapeake Bay Governor&#039;s School
REFRESH-INTERVAL;VALUE=DURATION:PT1H
X-Robots-Tag:noindex
X-PUBLISHED-TTL:PT1H
BEGIN:VTIMEZONE
TZID:America/New_York
BEGIN:DAYLIGHT
TZOFFSETFROM:-0500
TZOFFSETTO:-0400
TZNAME:EDT
DTSTART:20200308T070000
END:DAYLIGHT
BEGIN:STANDARD
TZOFFSETFROM:-0400
TZOFFSETTO:-0500
TZNAME:EST
DTSTART:20201101T060000
END:STANDARD
BEGIN:DAYLIGHT
TZOFFSETFROM:-0500
TZOFFSETTO:-0400
TZNAME:EDT
DTSTART:20210314T070000
END:DAYLIGHT
BEGIN:STANDARD
TZOFFSETFROM:-0400
TZOFFSETTO:-0500
TZNAME:EST
DTSTART:20211107T060000
END:STANDARD
BEGIN:DAYLIGHT
TZOFFSETFROM:-0500
TZOFFSETTO:-0400
TZNAME:EDT
DTSTART:20220313T070000
END:DAYLIGHT
BEGIN:STANDARD
TZOFFSETFROM:-0400
TZOFFSETTO:-0500
TZNAME:EST
DTSTART:20221106T060000
END:STANDARD
END:VTIMEZONE
BEGIN:VEVENT
DTSTART;VALUE=DATE:20211015
DTEND;VALUE=DATE:20211016
DTSTAMP:20260421T143917
CREATED:20210419T130206Z
LAST-MODIFIED:20210419T130206Z
UID:4098-1634256000-1634342399@cbgs.k12.va.us
SUMMARY:School Closed
DESCRIPTION:
URL:https://cbgs.k12.va.us/event/school-closed-6/
END:VEVENT
BEGIN:VEVENT
DTSTART;VALUE=DATE:20211022
DTEND;VALUE=DATE:20211023
DTSTAMP:20260421T143917
CREATED:20210419T130332Z
LAST-MODIFIED:20210419T130332Z
UID:4100-1634860800-1634947199@cbgs.k12.va.us
SUMMARY:End of First Marking Period
DESCRIPTION:
URL:https://cbgs.k12.va.us/event/end-of-first-marking-period-5/
END:VEVENT
BEGIN:VEVENT
DTSTART;TZID=America/New_York:20211026T140000
DTEND;TZID=America/New_York:20211026T140000
DTSTAMP:20260421T143917
CREATED:20211014T121126Z
LAST-MODIFIED:20211014T121126Z
UID:4244-1635256800-1635256800@cbgs.k12.va.us
SUMMARY:College Planning Workshop
DESCRIPTION:We would like to invite families to a college planning workshop via zoom on October 26\, 2021.  We will host two sessions\, one at 2pm and the other at 7pm for those who wish to attend.  The content will be the same for both sessions.  CBGS Seniors will have already participated in this workshop during the day\, so this workshop is oriented more for parents/guardians. ALL families are welcome to attend! \nPlease click here to access the Zoom link and for more information: \nCollege Planning Workshop Flyer
URL:https://cbgs.k12.va.us/event/college-planning-workshop/
LOCATION:Online
END:VEVENT
BEGIN:VEVENT
DTSTART;TZID=America/New_York:20211026T190000
DTEND;TZID=America/New_York:20211026T190000
DTSTAMP:20260421T143917
CREATED:20211014T121230Z
LAST-MODIFIED:20211014T121230Z
UID:4246-1635274800-1635274800@cbgs.k12.va.us
SUMMARY:College Planning Workshop
DESCRIPTION:We would like to invite families to a college planning workshop via zoom on October 26\, 2021.  We will host two sessions\, one at 2pm and the other at 7pm for those who wish to attend.  The content will be the same for both sessions.  CBGS Seniors will have already participated in this workshop during the day\, so this workshop is oriented more for parents/guardians. ALL families are welcome to attend! \nPlease click here to access the Zoom link and for more information: \nCollege Planning Workshop Flyer
URL:https://cbgs.k12.va.us/event/college-planning-workshop-2/
LOCATION:Online
END:VEVENT
END:VCALENDAR