BEGIN:VCALENDAR
VERSION:2.0
PRODID:-//Chesapeake Bay Governor&#039;s School - ECPv6.15.20//NONSGML v1.0//EN
CALSCALE:GREGORIAN
METHOD:PUBLISH
X-ORIGINAL-URL:https://cbgs.k12.va.us
X-WR-CALDESC:Events for Chesapeake Bay Governor&#039;s School
REFRESH-INTERVAL;VALUE=DURATION:PT1H
X-Robots-Tag:noindex
X-PUBLISHED-TTL:PT1H
BEGIN:VTIMEZONE
TZID:America/New_York
BEGIN:DAYLIGHT
TZOFFSETFROM:-0500
TZOFFSETTO:-0400
TZNAME:EDT
DTSTART:20210314T070000
END:DAYLIGHT
BEGIN:STANDARD
TZOFFSETFROM:-0400
TZOFFSETTO:-0500
TZNAME:EST
DTSTART:20211107T060000
END:STANDARD
BEGIN:DAYLIGHT
TZOFFSETFROM:-0500
TZOFFSETTO:-0400
TZNAME:EDT
DTSTART:20220313T070000
END:DAYLIGHT
BEGIN:STANDARD
TZOFFSETFROM:-0400
TZOFFSETTO:-0500
TZNAME:EST
DTSTART:20221106T060000
END:STANDARD
BEGIN:DAYLIGHT
TZOFFSETFROM:-0500
TZOFFSETTO:-0400
TZNAME:EDT
DTSTART:20230312T070000
END:DAYLIGHT
BEGIN:STANDARD
TZOFFSETFROM:-0400
TZOFFSETTO:-0500
TZNAME:EST
DTSTART:20231105T060000
END:STANDARD
END:VTIMEZONE
BEGIN:VEVENT
DTSTART;VALUE=DATE:20220103
DTEND;VALUE=DATE:20220104
DTSTAMP:20260421T085648
CREATED:20210419T130935Z
LAST-MODIFIED:20210419T130935Z
UID:4108-1641168000-1641254399@cbgs.k12.va.us
SUMMARY:School Reopens
DESCRIPTION:
URL:https://cbgs.k12.va.us/event/school-reopens-8/
END:VEVENT
BEGIN:VEVENT
DTSTART;VALUE=DATE:20220117
DTEND;VALUE=DATE:20220118
DTSTAMP:20260421T085648
CREATED:20210419T131158Z
LAST-MODIFIED:20210419T131158Z
UID:4112-1642377600-1642463999@cbgs.k12.va.us
SUMMARY:MLK Holiday - Closed
DESCRIPTION:
URL:https://cbgs.k12.va.us/event/mlk-holiday-closed-4/
END:VEVENT
BEGIN:VEVENT
DTSTART;VALUE=DATE:20220118
DTEND;VALUE=DATE:20220119
DTSTAMP:20260421T085648
CREATED:20210419T131101Z
LAST-MODIFIED:20220106T212336Z
UID:4110-1642464000-1642550399@cbgs.k12.va.us
SUMMARY:End of First Semester
DESCRIPTION:
URL:https://cbgs.k12.va.us/event/end-of-first-semester-4/
END:VEVENT
BEGIN:VEVENT
DTSTART;TZID=America/New_York:20220120T180000
DTEND;TZID=America/New_York:20220120T180000
DTSTAMP:20260421T085648
CREATED:20220113T193243Z
LAST-MODIFIED:20220114T205316Z
UID:4255-1642701600-1642701600@cbgs.k12.va.us
SUMMARY:Joint School Board Meeting
DESCRIPTION:  \nDue to COVID-19 and the need for social distancing\, this meeting will be held electronically via Zoom.  To join the zoom meeting\, use the link: \nhttps://us02web.zoom.us/j/86085175537?pwd=alJqTEh1ZDNMNndEZkNIU0EzZHdEUT09 \nMeeting ID: 860 8517 5537\nPasscode: H9eWNc \nTo Join Zoom Meeting by Phone:\n+1 301 715 8592 US (Washington DC)\nMeeting ID: 860 8517 5537\nPasscode: 812407 \nThe agenda for the meeting can be found here. \n 
URL:https://cbgs.k12.va.us/event/joint-school-board-meeting-23/
LOCATION:Online
END:VEVENT
END:VCALENDAR