BEGIN:VCALENDAR
VERSION:2.0
PRODID:-//Chesapeake Bay Governor&#039;s School - ECPv6.15.20//NONSGML v1.0//EN
CALSCALE:GREGORIAN
METHOD:PUBLISH
X-WR-CALNAME:Chesapeake Bay Governor&#039;s School
X-ORIGINAL-URL:https://cbgs.k12.va.us
X-WR-CALDESC:Events for Chesapeake Bay Governor&#039;s School
REFRESH-INTERVAL;VALUE=DURATION:PT1H
X-Robots-Tag:noindex
X-PUBLISHED-TTL:PT1H
BEGIN:VTIMEZONE
TZID:America/New_York
BEGIN:DAYLIGHT
TZOFFSETFROM:-0500
TZOFFSETTO:-0400
TZNAME:EDT
DTSTART:20210314T070000
END:DAYLIGHT
BEGIN:STANDARD
TZOFFSETFROM:-0400
TZOFFSETTO:-0500
TZNAME:EST
DTSTART:20211107T060000
END:STANDARD
BEGIN:DAYLIGHT
TZOFFSETFROM:-0500
TZOFFSETTO:-0400
TZNAME:EDT
DTSTART:20220313T070000
END:DAYLIGHT
BEGIN:STANDARD
TZOFFSETFROM:-0400
TZOFFSETTO:-0500
TZNAME:EST
DTSTART:20221106T060000
END:STANDARD
BEGIN:DAYLIGHT
TZOFFSETFROM:-0500
TZOFFSETTO:-0400
TZNAME:EDT
DTSTART:20230312T070000
END:DAYLIGHT
BEGIN:STANDARD
TZOFFSETFROM:-0400
TZOFFSETTO:-0500
TZNAME:EST
DTSTART:20231105T060000
END:STANDARD
END:VTIMEZONE
BEGIN:VEVENT
DTSTART;TZID=America/New_York:20220217T180000
DTEND;TZID=America/New_York:20220217T180000
DTSTAMP:20260421T073614
CREATED:20220210T212744Z
LAST-MODIFIED:20220210T213730Z
UID:4264-1645120800-1645120800@cbgs.k12.va.us
SUMMARY:Joint School Board Meeting
DESCRIPTION:  \nDue to COVID-19 and the need for social distancing\, this meeting will be held electronically via Zoom. To join the zoom meeting\, use the link: \nhttps://us02web.zoom.us/j/84412734256?pwd=QXNhaS9pNjc4cC9RTDlQQXNsWG9qdz09 \nMeeting ID: 844 1273 4256\nPasscode: bt8FDh \nTo Join Zoom Meeting by Phone:\n+1 301 715 8592 US (Washington DC)\nMeeting ID: 844 1273 4256\nPasscode: 618919 \nThe agenda for the meeting can be found here. \n 
URL:https://cbgs.k12.va.us/event/joint-school-board-meeting-24/
LOCATION:Online
END:VEVENT
BEGIN:VEVENT
DTSTART;VALUE=DATE:20220221
DTEND;VALUE=DATE:20220222
DTSTAMP:20260421T073614
CREATED:20210419T131326Z
LAST-MODIFIED:20210603T173703Z
UID:4114-1645401600-1645487999@cbgs.k12.va.us
SUMMARY:Presidents' Day - Closed
DESCRIPTION:
URL:https://cbgs.k12.va.us/event/presidents-day-closed-2/
END:VEVENT
END:VCALENDAR